Package: MinimumDistance Version: 1.52.1 Command: rm -rf MinimumDistance.buildbin-libdir && mkdir MinimumDistance.buildbin-libdir && E:\biocbuild\bbs-3.21-bioc\R\bin\R.exe CMD INSTALL --build --library=MinimumDistance.buildbin-libdir MinimumDistance_1.52.1.tar.gz StartedAt: 2025-08-15 09:42:49 -0400 (Fri, 15 Aug 2025) EndedAt: 2025-08-15 09:48:29 -0400 (Fri, 15 Aug 2025) EllapsedTime: 340.3 seconds RetCode: 0 Status: OK PackageFile: MinimumDistance_1.52.1.zip PackageFileSize: 3.518 MiB