Package: MinimumDistance Version: 1.52.1 Command: /home/biocbuild/bbs-3.21-bioc/R/bin/R CMD check --install=check:MinimumDistance.install-out.txt --library=/home/biocbuild/bbs-3.21-bioc/R/site-library --timings MinimumDistance_1.52.1.tar.gz StartedAt: 2025-10-16 01:05:02 -0400 (Thu, 16 Oct 2025) EndedAt: 2025-10-16 01:10:28 -0400 (Thu, 16 Oct 2025) EllapsedTime: 325.4 seconds RetCode: 0 Status: WARNINGS CheckDir: MinimumDistance.Rcheck Warnings: 4