Package: MinimumDistance Version: 1.52.1 Command: /home/biocbuild/R/R/bin/R CMD check --install=check:MinimumDistance.install-out.txt --library=/home/biocbuild/R/R/site-library --no-vignettes --timings MinimumDistance_1.52.1.tar.gz StartedAt: 2025-10-14 11:15:43 -0000 (Tue, 14 Oct 2025) EndedAt: 2025-10-14 11:22:32 -0000 (Tue, 14 Oct 2025) EllapsedTime: 409.4 seconds RetCode: 0 Status: WARNINGS CheckDir: MinimumDistance.Rcheck Warnings: 4