Package: MinimumDistance Version: 1.52.0 Command: /Library/Frameworks/R.framework/Resources/bin/R CMD check --install=check:MinimumDistance.install-out.txt --library=/Library/Frameworks/R.framework/Resources/library --no-vignettes --timings MinimumDistance_1.52.0.tar.gz StartedAt: 2025-04-21 20:20:24 -0400 (Mon, 21 Apr 2025) EndedAt: 2025-04-21 20:22:30 -0400 (Mon, 21 Apr 2025) EllapsedTime: 126.5 seconds RetCode: 0 Status: WARNINGS CheckDir: MinimumDistance.Rcheck Warnings: 4