Package: MinimumDistance Version: 1.52.1 Command: /Library/Frameworks/R.framework/Resources/bin/R CMD check --install=check:MinimumDistance.install-out.txt --library=/Library/Frameworks/R.framework/Resources/library --no-vignettes --timings MinimumDistance_1.52.1.tar.gz StartedAt: 2025-10-15 03:51:48 -0400 (Wed, 15 Oct 2025) EndedAt: 2025-10-15 03:57:52 -0400 (Wed, 15 Oct 2025) EllapsedTime: 363.6 seconds RetCode: 0 Status: WARNINGS CheckDir: MinimumDistance.Rcheck Warnings: 4