Package: MineICA Version: 1.48.0 Command: /home/biocbuild/bbs-3.21-bioc/R/bin/R CMD check --install=check:MineICA.install-out.txt --library=/home/biocbuild/bbs-3.21-bioc/R/site-library --timings MineICA_1.48.0.tar.gz StartedAt: 2025-10-16 01:04:36 -0400 (Thu, 16 Oct 2025) EndedAt: 2025-10-16 01:09:55 -0400 (Thu, 16 Oct 2025) EllapsedTime: 318.3 seconds RetCode: 1 Status: ERROR CheckDir: MineICA.Rcheck Warnings: NA