Package: MineICA Version: 1.48.0 Command: rm -rf MineICA.buildbin-libdir && mkdir MineICA.buildbin-libdir && /Users/biocbuild/BBS/utils/build-universal.sh MineICA_1.48.0.tar.gz /Library/Frameworks/R.framework/Resources/bin/R MineICA.buildbin-libdir StartedAt: 2025-04-22 00:54:56 -0400 (Tue, 22 Apr 2025) EndedAt: 2025-04-22 00:55:49 -0400 (Tue, 22 Apr 2025) EllapsedTime: 53.0 seconds RetCode: 0 Status: OK PackageFile: MineICA_1.48.0.tgz PackageFileSize: 2.188 MiB