Package: MineICA Version: 1.48.0 Command: /Library/Frameworks/R.framework/Resources/bin/R CMD INSTALL MineICA StartedAt: 2025-04-21 15:32:09 -0400 (Mon, 21 Apr 2025) EndedAt: 2025-04-21 15:32:23 -0400 (Mon, 21 Apr 2025) EllapsedTime: 14.1 seconds RetCode: 0 Status: OK