Package: MineICA Version: 1.48.0 Command: /Library/Frameworks/R.framework/Resources/bin/R CMD build --keep-empty-dirs --no-resave-data MineICA StartedAt: 2025-04-21 16:57:39 -0400 (Mon, 21 Apr 2025) EndedAt: 2025-04-21 16:58:29 -0400 (Mon, 21 Apr 2025) EllapsedTime: 49.6 seconds RetCode: 0 Status: OK PackageFile: MineICA_1.48.0.tar.gz PackageFileSize: 1.434 MiB