Package: MineICA Version: 1.48.0 Maintainer: Anne Biton MaintainerEmail: anne.biton at gmail.com git_url: https://git.bioconductor.org/packages/MineICA git_branch: RELEASE_3_21 git_last_commit: 4c7d2f7 git_last_commit_date: 2025-04-15 10:17:52 -0400 (Tue, 15 Apr 2025)