Package: MicrobiomeProfiler Version: 1.14.0 Command: /home/biocbuild/bbs-3.21-bioc/R/bin/R CMD INSTALL MicrobiomeProfiler StartedAt: 2025-10-15 15:48:52 -0400 (Wed, 15 Oct 2025) EndedAt: 2025-10-15 15:49:15 -0400 (Wed, 15 Oct 2025) EllapsedTime: 22.9 seconds RetCode: 0 Status: OK