Package: MicrobiomeProfiler Version: 1.14.0 Command: /Library/Frameworks/R.framework/Resources/bin/R CMD check --install=check:MicrobiomeProfiler.install-out.txt --library=/Library/Frameworks/R.framework/Resources/library --no-vignettes --timings MicrobiomeProfiler_1.14.0.tar.gz StartedAt: 2025-10-14 06:30:32 -0400 (Tue, 14 Oct 2025) EndedAt: 2025-10-14 06:36:13 -0400 (Tue, 14 Oct 2025) EllapsedTime: 341.3 seconds RetCode: 0 Status: OK CheckDir: MicrobiomeProfiler.Rcheck Warnings: 0