Package: MicrobiomeProfiler Version: 1.14.0 Command: /Library/Frameworks/R.framework/Resources/bin/R CMD check --install=check:MicrobiomeProfiler.install-out.txt --library=/Library/Frameworks/R.framework/Resources/library --no-vignettes --timings MicrobiomeProfiler_1.14.0.tar.gz StartedAt: 2025-04-21 21:52:09 -0400 (Mon, 21 Apr 2025) EndedAt: 2025-04-21 21:55:10 -0400 (Mon, 21 Apr 2025) EllapsedTime: 181.0 seconds RetCode: 0 Status: OK CheckDir: MicrobiomeProfiler.Rcheck Warnings: 0