Package: MiPP Version: 1.80.0 Command: rm -rf MiPP.buildbin-libdir && mkdir MiPP.buildbin-libdir && /Users/biocbuild/BBS/utils/build-universal.sh MiPP_1.80.0.tar.gz /Library/Frameworks/R.framework/Resources/bin/R MiPP.buildbin-libdir StartedAt: 2025-04-22 00:55:04 -0400 (Tue, 22 Apr 2025) EndedAt: 2025-04-22 00:55:12 -0400 (Tue, 22 Apr 2025) EllapsedTime: 7.8 seconds RetCode: 0 Status: OK PackageFile: MiPP_1.80.0.tgz PackageFileSize: 467.6 KiB