Package: MiPP Version: 1.80.0 Command: /home/biocbuild/R/R/bin/R CMD check --install=check:MiPP.install-out.txt --library=/home/biocbuild/R/R/site-library --no-vignettes --timings MiPP_1.80.0.tar.gz StartedAt: 2025-10-14 11:16:05 -0000 (Tue, 14 Oct 2025) EndedAt: 2025-10-14 11:17:40 -0000 (Tue, 14 Oct 2025) EllapsedTime: 95.1 seconds RetCode: 0 Status: OK CheckDir: MiPP.Rcheck Warnings: 0