Package: MiPP Version: 1.80.0 Command: /home/biocbuild/R/R/bin/R CMD build --keep-empty-dirs --no-resave-data MiPP StartedAt: 2025-10-14 02:30:14 -0000 (Tue, 14 Oct 2025) EndedAt: 2025-10-14 02:30:21 -0000 (Tue, 14 Oct 2025) EllapsedTime: 7.0 seconds RetCode: 0 Status: OK PackageFile: MiPP_1.80.0.tar.gz PackageFileSize: 399.7 KiB