Package: MiChip Version: 1.62.0 Command: E:\biocbuild\bbs-3.21-bioc\R\bin\R.exe CMD check --no-multiarch --install=check:MiChip.install-out.txt --library=E:\biocbuild\bbs-3.21-bioc\R\library --no-vignettes --timings MiChip_1.62.0.tar.gz StartedAt: 2025-08-15 04:06:54 -0400 (Fri, 15 Aug 2025) EndedAt: 2025-08-15 04:07:34 -0400 (Fri, 15 Aug 2025) EllapsedTime: 39.4 seconds RetCode: 0 Status: OK CheckDir: MiChip.Rcheck Warnings: 0