Package: MiChip Version: 1.62.0 Command: chmod a+r MiChip -R && E:\biocbuild\bbs-3.21-bioc\R\bin\R.exe CMD build --keep-empty-dirs --no-resave-data MiChip StartedAt: 2025-08-14 20:23:56 -0400 (Thu, 14 Aug 2025) EndedAt: 2025-08-14 20:24:20 -0400 (Thu, 14 Aug 2025) EllapsedTime: 24.0 seconds RetCode: 0 Status: OK PackageFile: MiChip_1.62.0.tar.gz PackageFileSize: 540.1 KiB