Package: MiChip Version: 1.62.0 Command: /home/biocbuild/bbs-3.21-bioc/R/bin/R CMD build --keep-empty-dirs --no-resave-data MiChip StartedAt: 2025-10-15 18:30:19 -0400 (Wed, 15 Oct 2025) EndedAt: 2025-10-15 18:30:28 -0400 (Wed, 15 Oct 2025) EllapsedTime: 9.0 seconds RetCode: 0 Status: OK PackageFile: MiChip_1.62.0.tar.gz PackageFileSize: 650.6 KiB