Package: MiChip Version: 1.62.0 Command: /Library/Frameworks/R.framework/Resources/bin/R CMD INSTALL MiChip StartedAt: 2025-04-21 15:12:38 -0400 (Mon, 21 Apr 2025) EndedAt: 2025-04-21 15:12:48 -0400 (Mon, 21 Apr 2025) EllapsedTime: 9.5 seconds RetCode: 0 Status: OK