Package: Mfuzz Version: 2.68.0 Command: /Library/Frameworks/R.framework/Resources/bin/R CMD INSTALL Mfuzz StartedAt: 2025-10-13 15:24:36 -0400 (Mon, 13 Oct 2025) EndedAt: 2025-10-13 15:24:55 -0400 (Mon, 13 Oct 2025) EllapsedTime: 18.4 seconds RetCode: 0 Status: OK