Package: Mfuzz Version: 2.68.0 Command: /Library/Frameworks/R.framework/Resources/bin/R CMD build --keep-empty-dirs --no-resave-data Mfuzz StartedAt: 2025-10-13 20:30:19 -0400 (Mon, 13 Oct 2025) EndedAt: 2025-10-13 20:30:54 -0400 (Mon, 13 Oct 2025) EllapsedTime: 35.0 seconds RetCode: 0 Status: OK PackageFile: Mfuzz_2.68.0.tar.gz PackageFileSize: 818.7 KiB