Package: MethylSeekR Version: 1.48.0 Command: /Library/Frameworks/R.framework/Resources/bin/R CMD check --install=check:MethylSeekR.install-out.txt --library=/Library/Frameworks/R.framework/Resources/library --no-vignettes --timings MethylSeekR_1.48.0.tar.gz StartedAt: 2025-10-01 03:16:19 -0400 (Wed, 01 Oct 2025) EndedAt: 2025-10-01 03:23:24 -0400 (Wed, 01 Oct 2025) EllapsedTime: 425.3 seconds RetCode: 0 Status: OK CheckDir: MethylSeekR.Rcheck Warnings: 0