Package: MethylSeekR Version: 1.48.0 Command: rm -rf MethylSeekR.buildbin-libdir && mkdir MethylSeekR.buildbin-libdir && /Users/biocbuild/BBS/utils/build-universal.sh MethylSeekR_1.48.0.tar.gz /Library/Frameworks/R.framework/Resources/bin/R MethylSeekR.buildbin-libdir StartedAt: 2025-10-01 19:16:00 -0400 (Wed, 01 Oct 2025) EndedAt: 2025-10-01 19:16:42 -0400 (Wed, 01 Oct 2025) EllapsedTime: 41.5 seconds RetCode: 0 Status: OK PackageFile: MethylSeekR_1.48.0.tgz PackageFileSize: 1.656 MiB