Package: MethylMix Version: 2.38.0 Command: rm -rf MethylMix.buildbin-libdir && mkdir MethylMix.buildbin-libdir && E:\biocbuild\bbs-3.21-bioc\R\bin\R.exe CMD INSTALL --build --library=MethylMix.buildbin-libdir MethylMix_2.38.0.tar.gz StartedAt: 2025-08-15 09:40:59 -0400 (Fri, 15 Aug 2025) EndedAt: 2025-08-15 09:41:24 -0400 (Fri, 15 Aug 2025) EllapsedTime: 25.4 seconds RetCode: 0 Status: OK PackageFile: MethylMix_2.38.0.zip PackageFileSize: 2.922 MiB