Package: MethylMix Version: 2.38.0 Command: /home/biocbuild/bbs-3.21-bioc/R/bin/R CMD check --install=check:MethylMix.install-out.txt --library=/home/biocbuild/bbs-3.21-bioc/R/site-library --timings MethylMix_2.38.0.tar.gz StartedAt: 2025-10-16 00:56:43 -0400 (Thu, 16 Oct 2025) EndedAt: 2025-10-16 00:58:46 -0400 (Thu, 16 Oct 2025) EllapsedTime: 123.2 seconds RetCode: 0 Status: OK CheckDir: MethylMix.Rcheck Warnings: 0