Package: MethylMix Version: 2.38.0 Command: /home/biocbuild/bbs-3.21-bioc/R/bin/R CMD build --keep-empty-dirs --no-resave-data MethylMix StartedAt: 2025-10-15 18:27:39 -0400 (Wed, 15 Oct 2025) EndedAt: 2025-10-15 18:28:06 -0400 (Wed, 15 Oct 2025) EllapsedTime: 27.0 seconds RetCode: 0 Status: OK PackageFile: MethylMix_2.38.0.tar.gz PackageFileSize: 2.576 MiB