Package: MethylMix Version: 2.38.0 Command: /Library/Frameworks/R.framework/Resources/bin/R CMD INSTALL MethylMix StartedAt: 2025-04-21 15:08:18 -0400 (Mon, 21 Apr 2025) EndedAt: 2025-04-21 15:09:02 -0400 (Mon, 21 Apr 2025) EllapsedTime: 43.7 seconds RetCode: 0 Status: OK