Package: MethylMix Version: 2.38.0 Command: /Library/Frameworks/R.framework/Resources/bin/R CMD check --install=check:MethylMix.install-out.txt --library=/Library/Frameworks/R.framework/Resources/library --no-vignettes --timings MethylMix_2.38.0.tar.gz StartedAt: 2025-04-21 21:49:00 -0400 (Mon, 21 Apr 2025) EndedAt: 2025-04-21 21:50:52 -0400 (Mon, 21 Apr 2025) EllapsedTime: 112.4 seconds RetCode: 0 Status: OK CheckDir: MethylMix.Rcheck Warnings: 0