Package: MethylMix Version: 2.38.0 Command: /home/biocbuild/R/R/bin/R CMD check --install=check:MethylMix.install-out.txt --library=/home/biocbuild/R/R/site-library --no-vignettes --timings MethylMix_2.38.0.tar.gz StartedAt: 2025-10-14 11:05:26 -0000 (Tue, 14 Oct 2025) EndedAt: 2025-10-14 11:07:57 -0000 (Tue, 14 Oct 2025) EllapsedTime: 151.1 seconds RetCode: 0 Status: OK CheckDir: MethylMix.Rcheck Warnings: 0