Package: MethylMix Version: 2.38.0 Command: /home/biocbuild/R/R/bin/R CMD build --keep-empty-dirs --no-resave-data MethylMix StartedAt: 2025-10-14 02:22:11 -0000 (Tue, 14 Oct 2025) EndedAt: 2025-10-14 02:22:50 -0000 (Tue, 14 Oct 2025) EllapsedTime: 39.0 seconds RetCode: 0 Status: OK PackageFile: MethylMix_2.38.0.tar.gz PackageFileSize: 2.577 MiB