Package: MethylMix Version: 2.38.0 Maintainer: Olivier Gevaert MaintainerEmail: olivier.gevaert at gmail.com git_url: https://git.bioconductor.org/packages/MethylMix git_branch: RELEASE_3_21 git_last_commit: fa7c9dc git_last_commit_date: 2025-04-15 10:33:39 -0400 (Tue, 15 Apr 2025)