Package: MethylAid Version: 1.42.0 Command: /home/biocbuild/bbs-3.21-bioc/R/bin/R CMD build --keep-empty-dirs --no-resave-data MethylAid StartedAt: 2025-10-15 18:25:50 -0400 (Wed, 15 Oct 2025) EndedAt: 2025-10-15 18:28:23 -0400 (Wed, 15 Oct 2025) EllapsedTime: 152.1 seconds RetCode: 0 Status: OK PackageFile: MethylAid_1.42.0.tar.gz PackageFileSize: 3.013 MiB