Package: MethylAid Version: 1.42.0 Command: /Library/Frameworks/R.framework/Resources/bin/R CMD build --keep-empty-dirs --no-resave-data MethylAid StartedAt: 2025-10-13 20:25:21 -0400 (Mon, 13 Oct 2025) EndedAt: 2025-10-13 20:33:19 -0400 (Mon, 13 Oct 2025) EllapsedTime: 477.8 seconds RetCode: 0 Status: OK PackageFile: MethylAid_1.42.0.tar.gz PackageFileSize: 3.012 MiB