Package: MethylAid Version: 1.42.0 Command: /home/biocbuild/R/R/bin/R CMD INSTALL MethylAid StartedAt: 2025-10-13 20:56:59 -0000 (Mon, 13 Oct 2025) EndedAt: 2025-10-13 20:58:09 -0000 (Mon, 13 Oct 2025) EllapsedTime: 69.6 seconds RetCode: 0 Status: OK