Package: MethylAid Version: 1.42.0 Command: /home/biocbuild/R/R/bin/R CMD check --install=check:MethylAid.install-out.txt --library=/home/biocbuild/R/R/site-library --no-vignettes --timings MethylAid_1.42.0.tar.gz StartedAt: 2025-10-14 11:02:46 -0000 (Tue, 14 Oct 2025) EndedAt: 2025-10-14 11:21:35 -0000 (Tue, 14 Oct 2025) EllapsedTime: 1129.9 seconds RetCode: 0 Status: OK CheckDir: MethylAid.Rcheck Warnings: 0