Package: MethylAid Version: 1.42.0 Command: /home/biocbuild/R/R/bin/R CMD build --keep-empty-dirs --no-resave-data MethylAid StartedAt: 2025-10-14 02:18:53 -0000 (Tue, 14 Oct 2025) EndedAt: 2025-10-14 02:28:38 -0000 (Tue, 14 Oct 2025) EllapsedTime: 585.1 seconds RetCode: 0 Status: OK PackageFile: MethylAid_1.42.0.tar.gz PackageFileSize: 3.004 MiB