Package: MethylAid Version: 1.42.0 Command: /Library/Frameworks/R.framework/Resources/bin/R CMD INSTALL MethylAid StartedAt: 2025-10-13 17:23:12 -0400 (Mon, 13 Oct 2025) EndedAt: 2025-10-13 17:24:09 -0400 (Mon, 13 Oct 2025) EllapsedTime: 57.0 seconds RetCode: 0 Status: OK