Package: MethylAid Version: 1.42.0 Command: /Library/Frameworks/R.framework/Resources/bin/R CMD check --install=check:MethylAid.install-out.txt --library=/Library/Frameworks/R.framework/Resources/library --no-vignettes --timings MethylAid_1.42.0.tar.gz StartedAt: 2025-10-15 03:10:48 -0400 (Wed, 15 Oct 2025) EndedAt: 2025-10-15 03:22:47 -0400 (Wed, 15 Oct 2025) EllapsedTime: 719.0 seconds RetCode: 0 Status: OK CheckDir: MethylAid.Rcheck Warnings: 0