Package: MethylAid Version: 1.42.0 Command: /Library/Frameworks/R.framework/Resources/bin/R CMD build --keep-empty-dirs --no-resave-data MethylAid StartedAt: 2025-10-14 04:04:53 -0400 (Tue, 14 Oct 2025) EndedAt: 2025-10-14 04:10:05 -0400 (Tue, 14 Oct 2025) EllapsedTime: 311.6 seconds RetCode: 0 Status: OK PackageFile: MethylAid_1.42.0.tar.gz PackageFileSize: 3.013 MiB