Package: MethTargetedNGS Version: 1.40.0 Command: /Library/Frameworks/R.framework/Resources/bin/R CMD check --install=check:MethTargetedNGS.install-out.txt --library=/Library/Frameworks/R.framework/Resources/library --no-vignettes --timings MethTargetedNGS_1.40.0.tar.gz StartedAt: 2025-09-30 06:05:29 -0400 (Tue, 30 Sep 2025) EndedAt: 2025-09-30 06:08:57 -0400 (Tue, 30 Sep 2025) EllapsedTime: 207.9 seconds RetCode: 0 Status: OK CheckDir: MethTargetedNGS.Rcheck Warnings: 0