Package: MethTargetedNGS Version: 1.40.0 Command: /home/biocbuild/R/R/bin/R CMD INSTALL MethTargetedNGS StartedAt: 2025-10-13 21:07:31 -0000 (Mon, 13 Oct 2025) EndedAt: 2025-10-13 21:07:47 -0000 (Mon, 13 Oct 2025) EllapsedTime: 16.6 seconds RetCode: 0 Status: OK