Package: MethTargetedNGS Version: 1.40.0 Command: /home/biocbuild/R/R/bin/R CMD check --install=check:MethTargetedNGS.install-out.txt --library=/home/biocbuild/R/R/site-library --no-vignettes --timings MethTargetedNGS_1.40.0.tar.gz StartedAt: 2025-10-14 11:02:09 -0000 (Tue, 14 Oct 2025) EndedAt: 2025-10-14 11:04:07 -0000 (Tue, 14 Oct 2025) EllapsedTime: 118.0 seconds RetCode: 0 Status: OK CheckDir: MethTargetedNGS.Rcheck Warnings: 0