Package: MethTargetedNGS Version: 1.40.0 Command: /Library/Frameworks/R.framework/Resources/bin/R CMD INSTALL MethTargetedNGS StartedAt: 2025-10-13 18:01:10 -0400 (Mon, 13 Oct 2025) EndedAt: 2025-10-13 18:01:24 -0400 (Mon, 13 Oct 2025) EllapsedTime: 14.0 seconds RetCode: 0 Status: OK