Package: MethTargetedNGS Version: 1.40.0 Command: /Library/Frameworks/R.framework/Resources/bin/R CMD build --keep-empty-dirs --no-resave-data MethTargetedNGS StartedAt: 2025-10-14 04:04:49 -0400 (Tue, 14 Oct 2025) EndedAt: 2025-10-14 04:05:26 -0400 (Tue, 14 Oct 2025) EllapsedTime: 36.4 seconds RetCode: 0 Status: OK PackageFile: MethTargetedNGS_1.40.0.tar.gz PackageFileSize: 282.6 KiB