Package: MethPed Version: 1.36.0 Command: /home/biocbuild/bbs-3.21-bioc/R/bin/R CMD INSTALL MethPed StartedAt: 2025-10-08 15:13:45 -0400 (Wed, 08 Oct 2025) EndedAt: 2025-10-08 15:13:53 -0400 (Wed, 08 Oct 2025) EllapsedTime: 8.7 seconds RetCode: 0 Status: OK