Package: MethPed Version: 1.36.0 Command: /home/biocbuild/bbs-3.21-bioc/R/bin/R CMD build --keep-empty-dirs --no-resave-data MethPed StartedAt: 2025-10-08 18:24:53 -0400 (Wed, 08 Oct 2025) EndedAt: 2025-10-08 18:26:23 -0400 (Wed, 08 Oct 2025) EllapsedTime: 90.0 seconds RetCode: 0 Status: OK PackageFile: MethPed_1.36.0.tar.gz PackageFileSize: 9.292 MiB