Package: MethPed Version: 1.36.0 Command: /Library/Frameworks/R.framework/Resources/bin/R CMD check --install=check:MethPed.install-out.txt --library=/Library/Frameworks/R.framework/Resources/library --no-vignettes --timings MethPed_1.36.0.tar.gz StartedAt: 2025-10-10 06:16:41 -0400 (Fri, 10 Oct 2025) EndedAt: 2025-10-10 06:22:35 -0400 (Fri, 10 Oct 2025) EllapsedTime: 353.6 seconds RetCode: 0 Status: OK CheckDir: MethPed.Rcheck Warnings: 0