Package: MetaboSignal Version: 1.38.0 Command: /home/biocbuild/bbs-3.21-bioc/R/bin/R CMD INSTALL MetaboSignal StartedAt: 2025-10-15 15:41:41 -0400 (Wed, 15 Oct 2025) EndedAt: 2025-10-15 15:42:34 -0400 (Wed, 15 Oct 2025) EllapsedTime: 53.0 seconds RetCode: 0 Status: OK