Package: MetaboSignal Version: 1.38.0 Command: /Library/Frameworks/R.framework/Resources/bin/R CMD check --install=check:MetaboSignal.install-out.txt --library=/Library/Frameworks/R.framework/Resources/library --no-vignettes --timings MetaboSignal_1.38.0.tar.gz StartedAt: 2025-10-15 02:51:47 -0400 (Wed, 15 Oct 2025) EndedAt: 2025-10-15 02:58:53 -0400 (Wed, 15 Oct 2025) EllapsedTime: 425.3 seconds RetCode: 0 Status: OK CheckDir: MetaboSignal.Rcheck Warnings: 0